BEGIN:VCALENDAR
VERSION:2.0
PRODID:-//Kirchengemeinde Mildstedt - ECPv6.5.1.4//NONSGML v1.0//EN
CALSCALE:GREGORIAN
METHOD:PUBLISH
X-ORIGINAL-URL:https://kirche-mildstedt.de
X-WR-CALDESC:Veranstaltungen für Kirchengemeinde Mildstedt
REFRESH-INTERVAL;VALUE=DURATION:PT1H
X-Robots-Tag:noindex
X-PUBLISHED-TTL:PT1H
BEGIN:VTIMEZONE
TZID:Europe/Berlin
BEGIN:DAYLIGHT
TZOFFSETFROM:+0100
TZOFFSETTO:+0200
TZNAME:CEST
DTSTART:20260329T010000
END:DAYLIGHT
BEGIN:STANDARD
TZOFFSETFROM:+0200
TZOFFSETTO:+0100
TZNAME:CET
DTSTART:20261025T010000
END:STANDARD
END:VTIMEZONE
BEGIN:VEVENT
DTSTART;TZID=Europe/Berlin:20260301T100000
DTEND;TZID=Europe/Berlin:20260301T110000
DTSTAMP:20260422T144758
CREATED:20251125T153750Z
LAST-MODIFIED:20251125T153750Z
UID:4150-1772359200-1772362800@kirche-mildstedt.de
SUMMARY:Familiengottesdienst mit den Kinder-Sacropop-Chor
DESCRIPTION:mit Pastorin Marlene Freese \nHerzliche Einladung zum ersten Familiengottesdienst im Jahr 2026 für Groß und Klein! Unser Kinder-Sacropop-Chor wird diesen Gottesdienst mit schönen Liedern begleiten und Licht in die dunkle Jahreszeit bringen. \n  \n 
URL:https://kirche-mildstedt.de/event/familiengottesdienst-mit-den-kinder-sacropop-chor/
LOCATION:Lamberti-Kirche Mildstedt\, Schulweg\, Mildstedt\, 25813\, Deutschland
CATEGORIES:Gottesdienste,Konzerte
ATTACH;FMTTYPE=image/png:https://kirche-mildstedt.de/wp-content/uploads/2025/11/Bild10.png
ORGANIZER;CN="Kirchengemeinde Mildstedt":MAILTO:mildstedt@kirche-nf.de
END:VEVENT
BEGIN:VEVENT
DTSTART;TZID=Europe/Berlin:20260308T170000
DTEND;TZID=Europe/Berlin:20260308T180000
DTSTAMP:20260422T144758
CREATED:20251125T153850Z
LAST-MODIFIED:20251125T154223Z
UID:4154-1772989200-1772992800@kirche-mildstedt.de
SUMMARY:Gottesdienst mit Kirchenchor
DESCRIPTION:mit Pastor Sassenhagen \nFeierlicher Gottesdienst mit unserem Kirchenchor unter der Leitung von Alexander Buchner. \n  \n 
URL:https://kirche-mildstedt.de/event/gottesdienst-mit-kirchenchor/
LOCATION:Lamberti-Kirche Mildstedt\, Schulweg\, Mildstedt\, 25813\, Deutschland
CATEGORIES:Gottesdienste
ATTACH;FMTTYPE=image/png:https://kirche-mildstedt.de/wp-content/uploads/2025/11/Bild9.png
ORGANIZER;CN="Kirchengemeinde Mildstedt":MAILTO:mildstedt@kirche-nf.de
END:VEVENT
BEGIN:VEVENT
DTSTART;TZID=Europe/Berlin:20260314T163000
DTEND;TZID=Europe/Berlin:20260314T180000
DTSTAMP:20260422T144758
CREATED:20251125T160044Z
LAST-MODIFIED:20251125T160044Z
UID:4177-1773505800-1773511200@kirche-mildstedt.de
SUMMARY:Chorkonzert "Frühlingsklänge"
DESCRIPTION:mit dem „Zimmerchor“ aus Nordfriesland unter der Leitung von Natalia Kosak. \n 
URL:https://kirche-mildstedt.de/event/chorkonzert-fruehlingsklaenge/
LOCATION:Lamberti-Kirche Mildstedt\, Schulweg\, Mildstedt\, 25813\, Deutschland
CATEGORIES:Konzerte
ATTACH;FMTTYPE=image/png:https://kirche-mildstedt.de/wp-content/uploads/2025/11/Konzertplakat_14.-Maerz-2026_Mildstedt.png
ORGANIZER;CN="Kirchengemeinde Mildstedt":MAILTO:mildstedt@kirche-nf.de
END:VEVENT
BEGIN:VEVENT
DTSTART;TZID=Europe/Berlin:20260315T000000
DTEND;TZID=Europe/Berlin:20260315T000000
DTSTAMP:20260422T144758
CREATED:20251125T153912Z
LAST-MODIFIED:20251125T153912Z
UID:4157-1773532800-1773532800@kirche-mildstedt.de
SUMMARY:Gottesdienste in der Region
DESCRIPTION:s. Aushänge/Homepage \n 
URL:https://kirche-mildstedt.de/event/gottesdienste-in-der-region-3/
CATEGORIES:Gottesdienste
ATTACH;FMTTYPE=image/jpeg:https://kirche-mildstedt.de/wp-content/uploads/2020/09/2020-08-19-08.47.41-scaled.jpg
ORGANIZER;CN="Kirchengemeinde Mildstedt":MAILTO:mildstedt@kirche-nf.de
END:VEVENT
BEGIN:VEVENT
DTSTART;TZID=Europe/Berlin:20260322T100000
DTEND;TZID=Europe/Berlin:20260322T110000
DTSTAMP:20260422T144758
CREATED:20251125T154411Z
LAST-MODIFIED:20251125T154605Z
UID:4164-1774173600-1774177200@kirche-mildstedt.de
SUMMARY:Konfirmandenvorstellungsgottesdienst
DESCRIPTION:mit Pastor Hartwig Freese \nWie die Zeit vergeht! Die Konfi-Zeit von unseren 44 Jugendlichen geht langsam ihrem Ende entgegen. An den Wochenenden 18./19. April und 25./26. April 2026 werden wir ihre Konfirmation feiern. Wir laden Sie und Euch aber schon vorher ganz herzlich ein\, und zwar zum Vorstellungsgottesdienst der Konfirmandinnen und Konfirmanden am Sonntag\, den 22. März 2026 um 10 Uhr in unserer Lamberti-Kirche! \n 
URL:https://kirche-mildstedt.de/event/konfirmandenvorstellungsgottesdienst/
LOCATION:Lamberti-Kirche Mildstedt\, Schulweg\, Mildstedt\, 25813\, Deutschland
CATEGORIES:Gottesdienste
ATTACH;FMTTYPE=image/png:https://kirche-mildstedt.de/wp-content/uploads/2025/11/Bild8.png
ORGANIZER;CN="Kirchengemeinde Mildstedt":MAILTO:mildstedt@kirche-nf.de
END:VEVENT
BEGIN:VEVENT
DTSTART;TZID=Europe/Berlin:20260329T100000
DTEND;TZID=Europe/Berlin:20260329T110000
DTSTAMP:20260422T144758
CREATED:20251125T154447Z
LAST-MODIFIED:20251125T154447Z
UID:4168-1774778400-1774782000@kirche-mildstedt.de
SUMMARY:Gottesdienst am Palmsonntag
DESCRIPTION:mit Pastorin Marlene Freese \n 
URL:https://kirche-mildstedt.de/event/gottesdienst-am-palmsonntag/
LOCATION:Lamberti-Kirche Mildstedt\, Schulweg\, Mildstedt\, 25813\, Deutschland
CATEGORIES:Gottesdienste
ATTACH;FMTTYPE=image/jpeg:https://kirche-mildstedt.de/wp-content/uploads/2020/09/2020-08-19-08.47.41-scaled.jpg
ORGANIZER;CN="Kirchengemeinde Mildstedt":MAILTO:mildstedt@kirche-nf.de
END:VEVENT
END:VCALENDAR