BEGIN:VCALENDAR
VERSION:2.0
PRODID:-//Kirchengemeinde Mildstedt - ECPv6.5.1.4//NONSGML v1.0//EN
CALSCALE:GREGORIAN
METHOD:PUBLISH
X-WR-CALNAME:Kirchengemeinde Mildstedt
X-ORIGINAL-URL:https://kirche-mildstedt.de
X-WR-CALDESC:Veranstaltungen für Kirchengemeinde Mildstedt
REFRESH-INTERVAL;VALUE=DURATION:PT1H
X-Robots-Tag:noindex
X-PUBLISHED-TTL:PT1H
BEGIN:VTIMEZONE
TZID:Europe/Berlin
BEGIN:DAYLIGHT
TZOFFSETFROM:+0100
TZOFFSETTO:+0200
TZNAME:CEST
DTSTART:20260329T010000
END:DAYLIGHT
BEGIN:STANDARD
TZOFFSETFROM:+0200
TZOFFSETTO:+0100
TZNAME:CET
DTSTART:20261025T010000
END:STANDARD
END:VTIMEZONE
BEGIN:VEVENT
DTSTART;TZID=Europe/Berlin:20260201T170000
DTEND;TZID=Europe/Berlin:20260201T180000
DTSTAMP:20260422T162314
CREATED:20251125T152831Z
LAST-MODIFIED:20251125T153347Z
UID:4137-1769965200-1769968800@kirche-mildstedt.de
SUMMARY:Musikalischer Abendgottesdienst "Die Bibel - Hier spielt die Musik"
DESCRIPTION:mit Pastorin Marlene Freese \nUnsere musikalische Erzähl-Gottesdienstreihe erfreute sich in 2025 von Mal zu Mal immer größerer Beliebtheit. Dietmar Wolff und Alexander Buchner führten die Gottesdienstbesucher mit Musik und Erzählungen durch die ersten Kapitel der Bibel – Bibelgeschichten wurden hautnah und ganz neu erlebt. Diese Reihe wollen wir in 2026 fortsetzen: wir werden die Geschichte von Josef hören. Eine dramatische Familiengeschichte und die Geschichte einer lebensverändernden Reise… \n 
URL:https://kirche-mildstedt.de/event/musikalischer-abendgottesdienst-die-bibel-hier-spielt-die-musik/
LOCATION:Lamberti-Kirche Mildstedt\, Schulweg\, Mildstedt\, 25813\, Deutschland
CATEGORIES:Gottesdienste
ATTACH;FMTTYPE=image/png:https://kirche-mildstedt.de/wp-content/uploads/2025/07/Noten-bunt1.png
ORGANIZER;CN="Kirchengemeinde Mildstedt":MAILTO:mildstedt@kirche-nf.de
END:VEVENT
BEGIN:VEVENT
DTSTART;TZID=Europe/Berlin:20260208T100000
DTEND;TZID=Europe/Berlin:20260208T110000
DTSTAMP:20260422T162314
CREATED:20251125T153026Z
LAST-MODIFIED:20251125T153026Z
UID:4144-1770544800-1770548400@kirche-mildstedt.de
SUMMARY:Gottesdienst mit Abendmahl
DESCRIPTION:mit Pastor Hartwig Freese \n 
URL:https://kirche-mildstedt.de/event/gottesdienst-mit-abendmahl/
LOCATION:Lamberti-Kirche Mildstedt\, Schulweg\, Mildstedt\, 25813\, Deutschland
CATEGORIES:Gottesdienste
ATTACH;FMTTYPE=image/jpeg:https://kirche-mildstedt.de/wp-content/uploads/2020/09/2020-08-19-08.47.41-scaled.jpg
ORGANIZER;CN="Kirchengemeinde Mildstedt":MAILTO:mildstedt@kirche-nf.de
END:VEVENT
BEGIN:VEVENT
DTSTART;TZID=Europe/Berlin:20260211T150000
DTEND;TZID=Europe/Berlin:20260211T163000
DTSTAMP:20260422T162314
CREATED:20251205T171316Z
LAST-MODIFIED:20251205T171316Z
UID:4198-1770822000-1770827400@kirche-mildstedt.de
SUMMARY:Singen macht Spaß
DESCRIPTION:Die Demenz Initiative Mildstedt lädt wieder zum fröhlichen Singen ins Lambertushaus ein.\nWir wenden uns an demenziell Erkrankte\, ihre Angehörigen und alle Interessierten.\nWir freuen uns auf rege Teilnahme und bieten auch Kaffee und Kuchen an. \nAnmeldungen werden im Dörpshus (Tel. 0 48 41-66 82 996) angenommen.
URL:https://kirche-mildstedt.de/event/singen-macht-spass/
LOCATION:Lambertushaus\, Schulweg 23\, Mildstedt\, 25813
CATEGORIES:Mal was Neues
ATTACH;FMTTYPE=image/png:https://kirche-mildstedt.de/wp-content/uploads/2022/09/DIM.png
END:VEVENT
BEGIN:VEVENT
DTSTART;TZID=Europe/Berlin:20260215T000000
DTEND;TZID=Europe/Berlin:20260215T000000
DTSTAMP:20260422T162314
CREATED:20251125T152925Z
LAST-MODIFIED:20251125T152925Z
UID:4141-1771113600-1771113600@kirche-mildstedt.de
SUMMARY:Gottesdienste in der Region
DESCRIPTION:s. Aushänge/Homepage \n 
URL:https://kirche-mildstedt.de/event/gottesdienste-in-der-region-2/
CATEGORIES:Gottesdienste
ATTACH;FMTTYPE=image/jpeg:https://kirche-mildstedt.de/wp-content/uploads/2020/09/2020-08-19-08.47.41-scaled.jpg
ORGANIZER;CN="Kirchengemeinde Mildstedt":MAILTO:mildstedt@kirche-nf.de
END:VEVENT
BEGIN:VEVENT
DTSTART;TZID=Europe/Berlin:20260222T100000
DTEND;TZID=Europe/Berlin:20260222T110000
DTSTAMP:20260422T162314
CREATED:20251125T153119Z
LAST-MODIFIED:20251125T153119Z
UID:4147-1771754400-1771758000@kirche-mildstedt.de
SUMMARY:Gottesdienst mit Kirchkaffee
DESCRIPTION:mit Pastorin Marlene Freese \n 
URL:https://kirche-mildstedt.de/event/gottesdienst-mit-kirchkaffee/
LOCATION:Lamberti-Kirche Mildstedt\, Schulweg\, Mildstedt\, 25813\, Deutschland
CATEGORIES:Gottesdienste
ATTACH;FMTTYPE=image/jpeg:https://kirche-mildstedt.de/wp-content/uploads/2020/09/2020-08-19-08.47.41-scaled.jpg
ORGANIZER;CN="Kirchengemeinde Mildstedt":MAILTO:mildstedt@kirche-nf.de
END:VEVENT
BEGIN:VEVENT
DTSTART;TZID=Europe/Berlin:20260222T111500
DTEND;TZID=Europe/Berlin:20260222T150000
DTSTAMP:20260422T162314
CREATED:20251123T095316Z
LAST-MODIFIED:20260121T080444Z
UID:4069-1771758900-1771772400@kirche-mildstedt.de
SUMMARY:Vier Jahreszeiten im Watt - Pilgern mit Anne Segebade & Pastor Hartwig Freese
DESCRIPTION:Pilgern mit Nationalpark-Wattführerin Anne Segebade und Pastor Hartwig Freese \nSonntag\, 22. Februar 2026\, 11.15 Uhr\, Treffen für die Bildung von Fahrgemeinschaften ab Pastorat (Schulweg 23\, Mildstedt).  \nDauer 2\,5 – 3 Stunden\, davon ca. 1 Stunde im Watt\nGruppenbegrenzung: 15 Personen \nWas? Im Februar ins Watt? Klar\, wo „Vier Jahreszeiten im Watt“ draufsteht\, sollen gerne auch vier Jahreszeiten drin sein. … und wie lässt es sich besser ins neue Jahr starten\, als mit einem tiefen Atemzug beim weiten Blick aufs Wattenmeer? \nIm Februar kann sich das Watt winterlich einladend oder unnahbar zeigen. Veranstaltungsort\, Inhalte und die Zeit draußen im Watt (hoffentlich!) werden den Witterungsverhältnissen angepasst – bis hin zu einer Veranstaltung im Gemeindehaus. Das wird kurzfristig entschieden. \nUnser Leitthema „Atmen“ ist draußen und drinnen eindrucksvoll und berührend. Passend dazu wird es kurze Impulse aus Bibel und Biologie geben. Wir lassen unser Miteinander anschließend gemütlich bei Kaffee/Tee und Kuchen im Hotel Lundenbergsand oder im Gemeindehaus ausklingen. \nHier noch einige Ausrüstungstipps:\n• Wetter-angepasste Wind- sowie ggf. Regendichte Kleidung (Regenhose!). Im Watt ist es meist kühler und windiger als an Land.\n• Festsitzende\, etwa Kniehohe und warme (Socken!) Gummistiefel. \nFragen insbesondere zu gesundheitlichen Einschränkungen teilen Sie uns gerne mit\, bei der Anmeldung unter hartwig.freese@kirche-nf.de\noder Tel.: 0160 502 62 62. \nWir freuen uns auf Sie und auf Euch! \nAnne Segebade und Hartwig Freese
URL:https://kirche-mildstedt.de/event/vier-jahreszeiten-im-watt-pilgern-mit-anne-segebade-pastor-hartwig-freese-2/
CATEGORIES:Mal was Neues,Pilgern
ATTACH;FMTTYPE=image/png:https://kirche-mildstedt.de/wp-content/uploads/2025/11/Bild6.png
END:VEVENT
BEGIN:VEVENT
DTSTART;TZID=Europe/Berlin:20260227T160000
DTEND;TZID=Europe/Berlin:20260227T173000
DTSTAMP:20260422T162314
CREATED:20251205T171702Z
LAST-MODIFIED:20251205T171739Z
UID:4201-1772208000-1772213400@kirche-mildstedt.de
SUMMARY:Bestattungskultur im Wandel
DESCRIPTION:Seit längerem zeichnen sich neue Trends in der Bestattungskultur und im Bestattungswesen ab. Von einem regelrechten Wandel darf man da sprechen. Inzwischen reagieren Bundesländer wie etwa Rheinland-Pfalz mit einem neuen\, deutlich liberaleren Bestattungsgesetz\, das ganz neue Wege eröffnet. Auch in Schleswig-Holstein zeigt sich der Wandel\, nicht zuletzt hier in Nordfriesland und auch auf unserem Mildstedter Friedhof. Der Geschäftsführer des Nordfriesischen Friedhofswerkes\, Roger Bodin\, wird über den Wandel in der Bestattungskultur und die Reaktion darauf referieren. Dabei gibt es die Gelegenheit zum Austausch und zur Diskussion.
URL:https://kirche-mildstedt.de/event/dorfkirche-mon-amour-2/
LOCATION:Lambertushaus\, Schulweg 23\, Mildstedt\, 25813
CATEGORIES:Mal was Neues
ATTACH;FMTTYPE=image/jpeg:https://kirche-mildstedt.de/wp-content/uploads/2025/12/Bestattungskultur-im-Wandel-scaled.jpg
END:VEVENT
END:VCALENDAR