BEGIN:VCALENDAR
VERSION:2.0
PRODID:-//Kirchengemeinde Mildstedt - ECPv6.5.1.4//NONSGML v1.0//EN
CALSCALE:GREGORIAN
METHOD:PUBLISH
X-WR-CALNAME:Kirchengemeinde Mildstedt
X-ORIGINAL-URL:https://kirche-mildstedt.de
X-WR-CALDESC:Veranstaltungen für Kirchengemeinde Mildstedt
REFRESH-INTERVAL;VALUE=DURATION:PT1H
X-Robots-Tag:noindex
X-PUBLISHED-TTL:PT1H
BEGIN:VTIMEZONE
TZID:Europe/Berlin
BEGIN:DAYLIGHT
TZOFFSETFROM:+0100
TZOFFSETTO:+0200
TZNAME:CEST
DTSTART:20260329T010000
END:DAYLIGHT
BEGIN:STANDARD
TZOFFSETFROM:+0200
TZOFFSETTO:+0100
TZNAME:CET
DTSTART:20261025T010000
END:STANDARD
END:VTIMEZONE
BEGIN:VEVENT
DTSTART;TZID=Europe/Berlin:20260425T140000
DTEND;TZID=Europe/Berlin:20260425T153000
DTSTAMP:20260422T115840
CREATED:20260322T090023Z
LAST-MODIFIED:20260322T090023Z
UID:4295-1777125600-1777131000@kirche-mildstedt.de
SUMMARY:Konfirmationen
DESCRIPTION:mit Pastor Hartwig Freese \n 
URL:https://kirche-mildstedt.de/event/konfirmationen-4/
LOCATION:Lamberti-Kirche Mildstedt\, Schulweg\, Mildstedt\, 25813\, Deutschland
CATEGORIES:Gottesdienste
ATTACH;FMTTYPE=image/png:https://kirche-mildstedt.de/wp-content/uploads/2024/02/Bild6.png
ORGANIZER;CN="Kirchengemeinde Mildstedt":MAILTO:mildstedt@kirche-nf.de
END:VEVENT
BEGIN:VEVENT
DTSTART;TZID=Europe/Berlin:20260426T100000
DTEND;TZID=Europe/Berlin:20260426T113000
DTSTAMP:20260422T115840
CREATED:20260322T090003Z
LAST-MODIFIED:20260322T090003Z
UID:4292-1777197600-1777203000@kirche-mildstedt.de
SUMMARY:Konfirmationen
DESCRIPTION:mit Pastor Hartwig Freese \n 
URL:https://kirche-mildstedt.de/event/konfirmationen-3/
LOCATION:Lamberti-Kirche Mildstedt\, Schulweg\, Mildstedt\, 25813\, Deutschland
CATEGORIES:Gottesdienste
ATTACH;FMTTYPE=image/png:https://kirche-mildstedt.de/wp-content/uploads/2024/02/Bild6.png
ORGANIZER;CN="Kirchengemeinde Mildstedt":MAILTO:mildstedt@kirche-nf.de
END:VEVENT
BEGIN:VEVENT
DTSTART;TZID=Europe/Berlin:20260503T093000
DTEND;TZID=Europe/Berlin:20260503T103000
DTSTAMP:20260422T115840
CREATED:20260324T154140Z
LAST-MODIFIED:20260324T154140Z
UID:4298-1777800600-1777804200@kirche-mildstedt.de
SUMMARY:Gottesdienste in der Region - Friedrichstadt
DESCRIPTION:mit Pastorin Marlene Freese \n 
URL:https://kirche-mildstedt.de/event/gottesdienste-in-der-region-friedrichstadt/
LOCATION:St. Christophorus Kirche Friedrichstadt\, Am Mittelburgwall\, Friedrichstadt\, Deutschland
CATEGORIES:Gottesdienste
ATTACH;FMTTYPE=image/jpeg:https://kirche-mildstedt.de/wp-content/uploads/2020/09/2020-08-19-08.47.41-scaled.jpg
ORGANIZER;CN="Kirchengemeinde Mildstedt":MAILTO:mildstedt@kirche-nf.de
END:VEVENT
BEGIN:VEVENT
DTSTART;TZID=Europe/Berlin:20260503T110000
DTEND;TZID=Europe/Berlin:20260503T120000
DTSTAMP:20260422T115840
CREATED:20260324T154257Z
LAST-MODIFIED:20260324T154257Z
UID:4301-1777806000-1777809600@kirche-mildstedt.de
SUMMARY:Gottesdienste in der Region - Koldenbüttel
DESCRIPTION:mit Pastorin Marlene Freese \n 
URL:https://kirche-mildstedt.de/event/gottesdienste-in-der-region-koldenbuettel/
LOCATION:St. Leonhard Kirche Koldenbüttel\, Dorfstraße 14\, Koldenbüttel\, Deutschland
CATEGORIES:Gottesdienste
ATTACH;FMTTYPE=image/jpeg:https://kirche-mildstedt.de/wp-content/uploads/2020/09/2020-08-19-08.47.41-scaled.jpg
ORGANIZER;CN="Kirchengemeinde Mildstedt":MAILTO:mildstedt@kirche-nf.de
END:VEVENT
BEGIN:VEVENT
DTSTART;TZID=Europe/Berlin:20260503T170000
DTEND;TZID=Europe/Berlin:20260503T180000
DTSTAMP:20260422T115840
CREATED:20260324T154418Z
LAST-MODIFIED:20260325T145759Z
UID:4304-1777827600-1777831200@kirche-mildstedt.de
SUMMARY:Gottesdienste in der Region - Mildstedt Musikalischer Abendgottesdienst
DESCRIPTION:mit Pastor Hartwig Freese \nMuisikalischer Abendgottesdienst mit dem Knopfakkordeon „Tanzende Finger“. \nAlexander Buchner spielt lateinamerikanische Musik und Swingmusik. \n 
URL:https://kirche-mildstedt.de/event/gottesdienste-in-der-region-mildstedt/
LOCATION:Lamberti-Kirche Mildstedt\, Schulweg\, Mildstedt\, 25813\, Deutschland
CATEGORIES:Gottesdienste
ATTACH;FMTTYPE=image/png:https://kirche-mildstedt.de/wp-content/uploads/2026/03/Akkordeon.png
ORGANIZER;CN="Kirchengemeinde Mildstedt":MAILTO:mildstedt@kirche-nf.de
END:VEVENT
BEGIN:VEVENT
DTSTART;TZID=Europe/Berlin:20260510T093000
DTEND;TZID=Europe/Berlin:20260510T103000
DTSTAMP:20260422T115840
CREATED:20260324T154516Z
LAST-MODIFIED:20260324T154516Z
UID:4307-1778405400-1778409000@kirche-mildstedt.de
SUMMARY:Gottesdienste in der Region - Ostenfeld
DESCRIPTION:mit Pastor Hartwig Freese \n 
URL:https://kirche-mildstedt.de/event/gottesdienste-in-der-region-ostenfeld/
LOCATION:St .Petri Kirche zu Ostenfeld\, Ostenfeld
CATEGORIES:Gottesdienste
ATTACH;FMTTYPE=image/jpeg:https://kirche-mildstedt.de/wp-content/uploads/2020/09/2020-08-19-08.47.41-scaled.jpg
ORGANIZER;CN="Kirchengemeinde Mildstedt":MAILTO:mildstedt@kirche-nf.de
END:VEVENT
BEGIN:VEVENT
DTSTART;TZID=Europe/Berlin:20260510T110000
DTEND;TZID=Europe/Berlin:20260510T120000
DTSTAMP:20260422T115840
CREATED:20260324T154551Z
LAST-MODIFIED:20260324T154551Z
UID:4310-1778410800-1778414400@kirche-mildstedt.de
SUMMARY:Gottesdienste in der Region - Schwabstedt
DESCRIPTION:mit Pastor Hartwig Freese \n 
URL:https://kirche-mildstedt.de/event/gottesdienste-in-der-region-schwabstedt/
LOCATION:St. Jakobi Kirche Schwabstedt\, Schwabstedt
CATEGORIES:Gottesdienste
ATTACH;FMTTYPE=image/jpeg:https://kirche-mildstedt.de/wp-content/uploads/2020/09/2020-08-19-08.47.41-scaled.jpg
ORGANIZER;CN="Kirchengemeinde Mildstedt":MAILTO:mildstedt@kirche-nf.de
END:VEVENT
BEGIN:VEVENT
DTSTART;TZID=Europe/Berlin:20260510T160000
DTEND;TZID=Europe/Berlin:20260510T190000
DTSTAMP:20260422T115840
CREATED:20251125T155350Z
LAST-MODIFIED:20260417T114525Z
UID:4173-1778428800-1778439600@kirche-mildstedt.de
SUMMARY:"Dorfkirche mon Amour"
DESCRIPTION:„Dorfkirche mon Amour“ am Sonntag\, 10. Mai 2026\, 16.30 Uhr in der Lamberti-Kirche\, Mildstedt.\nEinlass ab 16 Uhr\, der Eintritt ist frei \nGroßer Auftakt des Kulturfestivals im Norden mit dem Instrument des Jahres 2026! \nDas Akkordeon beziehungsweise das Schifferklavier ist das Instrument des Jahres 2026. Es passt wunderbar in unsere nordfriesische Gegend\, und es bietet ein breites musikalisches Repertoire. Das große Akkordeonorchester vom Music-Club Viöl unter Leitung von „Sascha“ Alexander Buchner wird nicht nur Lieder bieten\, die man von einem Akkordeon erwartet\, sondern auch Stücke aus Rock\, Pop und Klassik. Gesang wird es dabei auch geben und in unserer schönen Dorfkirche als Resonanzraum vollen Klang und ganze Power entfalten. \nDer Music-Club Viöl wurde 1980 gegründet\, inzwischen besteht der Verein aus drei Orchestern mit über 80 aktiven Spielerinnen und Spielern. \nIn der Pause und nach dem Konzert gibt es bei Snacks und Getränken die Gelegenheit zum Schnacken und die offizielle Eröffnung zu feiern. \n  \n  \n 
URL:https://kirche-mildstedt.de/event/dorfkirche-mon-amour/
LOCATION:Lamberti-Kirche Mildstedt\, Schulweg\, Mildstedt\, 25813\, Deutschland
CATEGORIES:Mal was Neues
ATTACH;FMTTYPE=image/png:https://kirche-mildstedt.de/wp-content/uploads/2026/03/Bild5.png
END:VEVENT
BEGIN:VEVENT
DTSTART;TZID=Europe/Berlin:20260514T110000
DTEND;TZID=Europe/Berlin:20260514T120000
DTSTAMP:20260422T115840
CREATED:20260324T154725Z
LAST-MODIFIED:20260402T071023Z
UID:4313-1778756400-1778760000@kirche-mildstedt.de
SUMMARY:Taufen an Himmelfahrt mit dem Posaunenchor
DESCRIPTION:mit Pastorin Marlene Freese \nBei schlechtem Wetter finden die Taufen in der Kirche in Mildstedt statt. \n 
URL:https://kirche-mildstedt.de/event/taufen-an-himmelfahrt/
LOCATION:Pastoratsgarten Mildstedt\, Schulweg 23\, Mildstedt\, 25866\, Deutschland
CATEGORIES:Gottesdienste
ATTACH;FMTTYPE=image/jpeg:https://kirche-mildstedt.de/wp-content/uploads/2022/12/Taufbecken-5-scaled.jpg
ORGANIZER;CN="Kirchengemeinde Mildstedt":MAILTO:mildstedt@kirche-nf.de
END:VEVENT
BEGIN:VEVENT
DTSTART;TZID=Europe/Berlin:20260514T110000
DTEND;TZID=Europe/Berlin:20260514T120000
DTSTAMP:20260422T115840
CREATED:20260324T155109Z
LAST-MODIFIED:20260324T155109Z
UID:4318-1778756400-1778760000@kirche-mildstedt.de
SUMMARY:Taufen an Himmelfahrt
DESCRIPTION:mit Pastor Christoph Sassenhagen \n 
URL:https://kirche-mildstedt.de/event/taufen-an-himmelfahrt-2/
LOCATION:Friedrichstadt\, Westersielzug\, Friedrichstadt\, Deutschland
CATEGORIES:Gottesdienste
ATTACH;FMTTYPE=image/jpeg:https://kirche-mildstedt.de/wp-content/uploads/2022/12/Taufbecken-5-scaled.jpg
ORGANIZER;CN="Kirchengemeinde Mildstedt":MAILTO:mildstedt@kirche-nf.de
END:VEVENT
BEGIN:VEVENT
DTSTART;TZID=Europe/Berlin:20260517T100000
DTEND;TZID=Europe/Berlin:20260517T110000
DTSTAMP:20260422T115840
CREATED:20260324T155434Z
LAST-MODIFIED:20260324T155607Z
UID:4323-1779012000-1779015600@kirche-mildstedt.de
SUMMARY:Gottesdienste in der Region - Mildstedt
DESCRIPTION:mit Pastor Christoph Sassenhagen \n  \n 
URL:https://kirche-mildstedt.de/event/gottesdienste-in-der-region-mildstedt-2/
LOCATION:Lamberti-Kirche Mildstedt\, Schulweg\, Mildstedt\, 25813\, Deutschland
CATEGORIES:Gottesdienste
ATTACH;FMTTYPE=image/jpeg:https://kirche-mildstedt.de/wp-content/uploads/2020/09/2020-08-19-08.47.41-scaled.jpg
ORGANIZER;CN="Kirchengemeinde Mildstedt":MAILTO:mildstedt@kirche-nf.de
END:VEVENT
BEGIN:VEVENT
DTSTART;TZID=Europe/Berlin:20260517T180000
DTEND;TZID=Europe/Berlin:20260517T190000
DTSTAMP:20260422T115840
CREATED:20260324T155531Z
LAST-MODIFIED:20260324T155531Z
UID:4326-1779040800-1779044400@kirche-mildstedt.de
SUMMARY:Gottesdienste in der Region - Koldenbüttel Abendgottesdienst
DESCRIPTION:mit Pastor Christoph Sassenhagen \n 
URL:https://kirche-mildstedt.de/event/gottesdienste-in-der-region-koldenbuettel-abendgottesdienst/
LOCATION:St. Leonhard Kirche Koldenbüttel\, Dorfstraße 14\, Koldenbüttel\, Deutschland
CATEGORIES:Gottesdienste
ATTACH;FMTTYPE=image/jpeg:https://kirche-mildstedt.de/wp-content/uploads/2020/09/2020-08-19-08.47.41-scaled.jpg
ORGANIZER;CN="Kirchengemeinde Mildstedt":MAILTO:mildstedt@kirche-nf.de
END:VEVENT
BEGIN:VEVENT
DTSTART;TZID=Europe/Berlin:20260524T110000
DTEND;TZID=Europe/Berlin:20260524T120000
DTSTAMP:20260422T115840
CREATED:20260324T155703Z
LAST-MODIFIED:20260324T155703Z
UID:4330-1779620400-1779624000@kirche-mildstedt.de
SUMMARY:Gottesdienste in der Region - Friedrichstadt
DESCRIPTION:mit Pastorin Kirstin Kristoffersen \n 
URL:https://kirche-mildstedt.de/event/gottesdienste-in-der-region-friedrichstadt-2/
LOCATION:St. Christophorus Kirche Friedrichstadt\, Am Mittelburgwall\, Friedrichstadt\, Deutschland
CATEGORIES:Gottesdienste
ATTACH;FMTTYPE=image/jpeg:https://kirche-mildstedt.de/wp-content/uploads/2020/09/2020-08-19-08.47.41-scaled.jpg
ORGANIZER;CN="Kirchengemeinde Mildstedt":MAILTO:mildstedt@kirche-nf.de
END:VEVENT
BEGIN:VEVENT
DTSTART;TZID=Europe/Berlin:20260524T190000
DTEND;TZID=Europe/Berlin:20260524T203000
DTSTAMP:20260422T115840
CREATED:20260325T150241Z
LAST-MODIFIED:20260325T150528Z
UID:4415-1779649200-1779654600@kirche-mildstedt.de
SUMMARY:Blechbläserquintett "Blechlawine" in der Lamberti-Kirche
DESCRIPTION:Das Blechbläserquintett „Blechlawine“\, 2018 in Bietigheim-Bissingen gegründet\, gastiert in der St.-Lamberti-Kirche Mildstedt. \nFünf engagierte Musiker aus dem Großraum Stuttgart präsentieren die ganze Klangvielfalt der klassischen Quintett-Besetzung (2 Trompeten\, Horn\, Posaune\, Tuba). Das Repertoire reicht von Johann Sebastian Bach bis zu Film-\, Pop- und Jazz-Arrangements. \n  \n 
URL:https://kirche-mildstedt.de/event/blechblaeserquintett-blechlawine-in-der-lamberti-kirche/
LOCATION:Lamberti-Kirche Mildstedt\, Schulweg\, Mildstedt\, 25813\, Deutschland
CATEGORIES:Gottesdienste
ATTACH;FMTTYPE=image/png:https://kirche-mildstedt.de/wp-content/uploads/2026/03/Bild4.png
ORGANIZER;CN="Kirchengemeinde Mildstedt":MAILTO:mildstedt@kirche-nf.de
END:VEVENT
BEGIN:VEVENT
DTSTART;TZID=Europe/Berlin:20260607T093000
DTEND;TZID=Europe/Berlin:20260607T103000
DTSTAMP:20260422T115840
CREATED:20260324T160130Z
LAST-MODIFIED:20260324T160130Z
UID:4333-1780824600-1780828200@kirche-mildstedt.de
SUMMARY:Gottesdienste in der Region - Friedrichstadt
DESCRIPTION:mit Pastor Hartwig Freese \n 
URL:https://kirche-mildstedt.de/event/gottesdienste-in-der-region-friedrichstadt-3/
LOCATION:St. Christophorus Kirche Friedrichstadt\, Am Mittelburgwall\, Friedrichstadt\, Deutschland
CATEGORIES:Gottesdienste
ATTACH;FMTTYPE=image/jpeg:https://kirche-mildstedt.de/wp-content/uploads/2020/09/2020-08-19-08.47.41-scaled.jpg
ORGANIZER;CN="Kirchengemeinde Mildstedt":MAILTO:mildstedt@kirche-nf.de
END:VEVENT
BEGIN:VEVENT
DTSTART;TZID=Europe/Berlin:20260607T110000
DTEND;TZID=Europe/Berlin:20260607T120000
DTSTAMP:20260422T115840
CREATED:20260324T160209Z
LAST-MODIFIED:20260324T160209Z
UID:4336-1780830000-1780833600@kirche-mildstedt.de
SUMMARY:Gottesdienste in der Region - Koldenbüttel
DESCRIPTION:mit Pastor Hartwig Freese \n 
URL:https://kirche-mildstedt.de/event/gottesdienste-in-der-region-koldenbuettel-2/
LOCATION:St. Leonhard Kirche Koldenbüttel\, Dorfstraße 14\, Koldenbüttel\, Deutschland
CATEGORIES:Gottesdienste
ATTACH;FMTTYPE=image/jpeg:https://kirche-mildstedt.de/wp-content/uploads/2020/09/2020-08-19-08.47.41-scaled.jpg
ORGANIZER;CN="Kirchengemeinde Mildstedt":MAILTO:mildstedt@kirche-nf.de
END:VEVENT
BEGIN:VEVENT
DTSTART;TZID=Europe/Berlin:20260607T170000
DTEND;TZID=Europe/Berlin:20260607T180000
DTSTAMP:20260422T115840
CREATED:20260324T160325Z
LAST-MODIFIED:20260325T151118Z
UID:4341-1780851600-1780855200@kirche-mildstedt.de
SUMMARY:Musikalischer Abendgottesdienst - Die Bibel - hier spielt die Musik
DESCRIPTION:mit Gesangsgruppe. \nMit der fünften Ausgabe unserer musikalischen Erzähl-Gottesdienstreihe folgen wir der Geschichte von Mose\, der als kleines Kind in einem Weidenkorb auf dem Fluss dem Tod knapp entrinnt\, mit Gott hadert und diskutiert und schließlich sein Volk in die Freiheit führt. \nDiese spannenden Erzählungen werden wie immer lebendig durch den Erzähler Dietmar Wolff und musikalisch begleitet von Alexander Buchner an der Orgel\, zusammen mit einer Gruppe aus ängerinnen und Sängern. Eine besondere Ausgabe unserer Reihe\, die damit vorerst zum Abschluss kommt. \n  \n 
URL:https://kirche-mildstedt.de/event/gottesdienste-in-der-region-mildstedt-musikalischer-abendgottesdienst/
LOCATION:Lamberti-Kirche Mildstedt\, Schulweg\, Mildstedt\, 25813\, Deutschland
CATEGORIES:Gottesdienste
ATTACH;FMTTYPE=image/png:https://kirche-mildstedt.de/wp-content/uploads/2026/03/Bild7.png
ORGANIZER;CN="Kirchengemeinde Mildstedt":MAILTO:mildstedt@kirche-nf.de
END:VEVENT
BEGIN:VEVENT
DTSTART;TZID=Europe/Berlin:20260613T100000
DTEND;TZID=Europe/Berlin:20260613T113000
DTSTAMP:20260422T115840
CREATED:20260325T153025Z
LAST-MODIFIED:20260325T153139Z
UID:4437-1781344800-1781350200@kirche-mildstedt.de
SUMMARY:Kinderkirche Thema "Arche Noah"
DESCRIPTION:Wir laden herzlich ein zu unserer Kinderkirche. Alle Kinder und ihre Eltern sind herzlich eingeladen! Kinder ab 5 Jahren können auch ohne Begleitung der Eltern teilnehmen. Euch erwarten basteln und Geschichten zum Hören und Staunen. \nBitte nehmt ein paar Snacks zum Teilen für ein gemeinsames Picknick mit. Wir treffen uns im Gemeindehaus. \nFür eine genaue Planung bitten wir um eine Anmeldung bis zum 10. Juni 2026. \nWir freuen uns auf Euch!\nMarlene Freese\, Annika Pludrzinski und Jana Berger
URL:https://kirche-mildstedt.de/event/kinderkirche-thema-arche-noah/
LOCATION:Lambertushaus\, Schulweg 23\, Mildstedt\, 25813
CATEGORIES:Kinder- und Jugendangebot
ATTACH;FMTTYPE=image/jpeg:https://kirche-mildstedt.de/wp-content/uploads/2022/04/Kinderkirche-im-Mai-e1732982371272.jpg
ORGANIZER;CN="Kirchengemeinde Mildstedt":MAILTO:mildstedt@kirche-nf.de
END:VEVENT
BEGIN:VEVENT
DTSTART;TZID=Europe/Berlin:20260613T190000
DTEND;TZID=Europe/Berlin:20260613T203000
DTSTAMP:20260422T115840
CREATED:20260325T152441Z
LAST-MODIFIED:20260325T152441Z
UID:4430-1781377200-1781382600@kirche-mildstedt.de
SUMMARY:Holli Spirit lädt ein zum Chorkonzert "Deutsche Hits"
DESCRIPTION:5. Juni – 19 Uhr Kirche in Hollingstedt \n6. Juni – 19 Uhr Kirche in Schuby \n12. Juni – 19 Uhr Kirche in Eggebek \n13. Juni – 19 Uhr Kirche in Mildstedt
URL:https://kirche-mildstedt.de/event/holli-spirit-laedt-ein-zum-chorkonzert-deutsche-hits/
LOCATION:Lamberti-Kirche Mildstedt\, Schulweg\, Mildstedt\, 25813\, Deutschland
CATEGORIES:Gottesdienste
ATTACH;FMTTYPE=image/png:https://kirche-mildstedt.de/wp-content/uploads/2026/03/Bild6.png
ORGANIZER;CN="Kirchengemeinde Mildstedt":MAILTO:mildstedt@kirche-nf.de
END:VEVENT
BEGIN:VEVENT
DTSTART;TZID=Europe/Berlin:20260614T093000
DTEND;TZID=Europe/Berlin:20260614T103000
DTSTAMP:20260422T115840
CREATED:20260324T160418Z
LAST-MODIFIED:20260324T160418Z
UID:4344-1781429400-1781433000@kirche-mildstedt.de
SUMMARY:Gottesdienste in der Region - Ostenfeld
DESCRIPTION:mit Pastorin Marlene Freese \n 
URL:https://kirche-mildstedt.de/event/gottesdienste-in-der-region-ostenfeld-2/
LOCATION:St .Petri Kirche zu Ostenfeld\, Ostenfeld
CATEGORIES:Gottesdienste
ATTACH;FMTTYPE=image/jpeg:https://kirche-mildstedt.de/wp-content/uploads/2020/09/2020-08-19-08.47.41-scaled.jpg
ORGANIZER;CN="Kirchengemeinde Mildstedt":MAILTO:mildstedt@kirche-nf.de
END:VEVENT
BEGIN:VEVENT
DTSTART;TZID=Europe/Berlin:20260614T110000
DTEND;TZID=Europe/Berlin:20260614T120000
DTSTAMP:20260422T115840
CREATED:20260324T160446Z
LAST-MODIFIED:20260324T160446Z
UID:4347-1781434800-1781438400@kirche-mildstedt.de
SUMMARY:Gottesdienste in der Region - Schwabstedt
DESCRIPTION:mit Pastorin Marlene Freese \n 
URL:https://kirche-mildstedt.de/event/gottesdienste-in-der-region-schwabstedt-2/
LOCATION:St. Jakobi Kirche Schwabstedt\, Schwabstedt
CATEGORIES:Gottesdienste
ATTACH;FMTTYPE=image/jpeg:https://kirche-mildstedt.de/wp-content/uploads/2020/09/2020-08-19-08.47.41-scaled.jpg
ORGANIZER;CN="Kirchengemeinde Mildstedt":MAILTO:mildstedt@kirche-nf.de
END:VEVENT
BEGIN:VEVENT
DTSTART;TZID=Europe/Berlin:20260617T180000
DTEND;TZID=Europe/Berlin:20260617T190000
DTSTAMP:20260422T115840
CREATED:20260325T152114Z
LAST-MODIFIED:20260325T152114Z
UID:4427-1781719200-1781722800@kirche-mildstedt.de
SUMMARY:Mal was Neues
DESCRIPTION:Wir treffen uns zum Ideensammeln und Planen der nächsten Veranstaltungen im Rahmen von „Mal was Neues“. Wer mitmachen möchte\, darf gerne einfach vorbeikommen.
URL:https://kirche-mildstedt.de/event/mal-was-neues/
LOCATION:Lambertushaus\, Schulweg 23\, Mildstedt\, 25813
CATEGORIES:Mal was Neues
ATTACH;FMTTYPE=image/png:https://kirche-mildstedt.de/wp-content/uploads/2025/07/Mal-was-Neues.png
END:VEVENT
BEGIN:VEVENT
DTSTART;TZID=Europe/Berlin:20260621T093000
DTEND;TZID=Europe/Berlin:20260621T103000
DTSTAMP:20260422T115840
CREATED:20260324T160529Z
LAST-MODIFIED:20260324T160529Z
UID:4350-1782034200-1782037800@kirche-mildstedt.de
SUMMARY:Gottesdienste in der Region - Friedrichstadt
DESCRIPTION:mit Pastorin Kirstin Kristoffersen \n 
URL:https://kirche-mildstedt.de/event/gottesdienste-in-der-region-friedrichstadt-4/
LOCATION:St. Christophorus Kirche Friedrichstadt\, Am Mittelburgwall\, Friedrichstadt\, Deutschland
CATEGORIES:Gottesdienste
ATTACH;FMTTYPE=image/jpeg:https://kirche-mildstedt.de/wp-content/uploads/2020/09/2020-08-19-08.47.41-scaled.jpg
ORGANIZER;CN="Kirchengemeinde Mildstedt":MAILTO:mildstedt@kirche-nf.de
END:VEVENT
BEGIN:VEVENT
DTSTART;TZID=Europe/Berlin:20260621T100000
DTEND;TZID=Europe/Berlin:20260621T110000
DTSTAMP:20260422T115840
CREATED:20260324T160711Z
LAST-MODIFIED:20260324T160711Z
UID:4356-1782036000-1782039600@kirche-mildstedt.de
SUMMARY:Taufgottesdienst
DESCRIPTION:mit Pastor Hartwig Freese \n 
URL:https://kirche-mildstedt.de/event/taufgottesdienst-2/
LOCATION:Lamberti-Kirche Mildstedt\, Schulweg\, Mildstedt\, 25813\, Deutschland
CATEGORIES:Gottesdienste
ATTACH;FMTTYPE=image/jpeg:https://kirche-mildstedt.de/wp-content/uploads/2022/12/Taufbecken-5-scaled.jpg
ORGANIZER;CN="Kirchengemeinde Mildstedt":MAILTO:mildstedt@kirche-nf.de
END:VEVENT
BEGIN:VEVENT
DTSTART;TZID=Europe/Berlin:20260621T110000
DTEND;TZID=Europe/Berlin:20260621T120000
DTSTAMP:20260422T115840
CREATED:20260324T160605Z
LAST-MODIFIED:20260324T160605Z
UID:4353-1782039600-1782043200@kirche-mildstedt.de
SUMMARY:Gottesdienste in der Region - Koldenbüttel
DESCRIPTION:mit Pastorin Kirstin Kristoffersen \n 
URL:https://kirche-mildstedt.de/event/gottesdienste-in-der-region-koldenbuettel-3/
LOCATION:St. Leonhard Kirche Koldenbüttel\, Dorfstraße 14\, Koldenbüttel\, Deutschland
CATEGORIES:Gottesdienste
ATTACH;FMTTYPE=image/jpeg:https://kirche-mildstedt.de/wp-content/uploads/2020/09/2020-08-19-08.47.41-scaled.jpg
ORGANIZER;CN="Kirchengemeinde Mildstedt":MAILTO:mildstedt@kirche-nf.de
END:VEVENT
BEGIN:VEVENT
DTSTART;TZID=Europe/Berlin:20260627T130000
DTEND;TZID=Europe/Berlin:20260627T170000
DTSTAMP:20260422T115840
CREATED:20260325T150035Z
LAST-MODIFIED:20260325T151640Z
UID:4412-1782565200-1782579600@kirche-mildstedt.de
SUMMARY:Fahrrad-Pilgertour zu den Kirchen St. Marien in Witzwort und St. Nicolai in Uelvesbüll
DESCRIPTION:Samstag\, 27. Juni 2026\, 13 Uhr ab Pastorat Mildstedt \nWir laden herzlich ein\, mit uns die Kirchen St. Marien in Witzwort und St. Nicolai in Uelvesbüll zu besichtigen. \nIm Rahmen einer Kirchenführung durch Frau Pastorin Inke Thomsen-Krüger erwartet uns ein Einblick in die Historie dieser beiden schönen Kirchen. \nAuf dem Rückweg haben wir Zeit für ein kleines Picknick (bringt bitte jeder selbst mit). Danach radeln wir zum Ausgangspunkt zurück. Sollte das Wetter keine Fahrradtour zulassen\, bilden wir ab Pastorat Mildstedt Fahrgemeinschaften. Die Fahrradtour findet auf eigene Gefahr statt.
URL:https://kirche-mildstedt.de/event/fahrrad-pilgertour-zu-den-kirchen-st-marien-in-witzwort-und-st-nicolai-in-uelvesbuell/
CATEGORIES:Mal was Neues
ATTACH;FMTTYPE=image/png:https://kirche-mildstedt.de/wp-content/uploads/2024/02/Bild4.png
END:VEVENT
BEGIN:VEVENT
DTSTART;TZID=Europe/Berlin:20260628T093000
DTEND;TZID=Europe/Berlin:20260628T103000
DTSTAMP:20260422T115840
CREATED:20260324T160757Z
LAST-MODIFIED:20260324T160757Z
UID:4359-1782639000-1782642600@kirche-mildstedt.de
SUMMARY:Gottesdienste in der Region - Ostenfeld
DESCRIPTION:mit Pastorin Kristin Kristoffersen \n 
URL:https://kirche-mildstedt.de/event/gottesdienste-in-der-region-ostenfeld-3/
LOCATION:St .Petri Kirche zu Ostenfeld\, Ostenfeld
CATEGORIES:Gottesdienste
ATTACH;FMTTYPE=image/jpeg:https://kirche-mildstedt.de/wp-content/uploads/2020/09/2020-08-19-08.47.41-scaled.jpg
ORGANIZER;CN="Kirchengemeinde Mildstedt":MAILTO:mildstedt@kirche-nf.de
END:VEVENT
BEGIN:VEVENT
DTSTART;TZID=Europe/Berlin:20260628T110000
DTEND;TZID=Europe/Berlin:20260628T120000
DTSTAMP:20260422T115840
CREATED:20260324T172424Z
LAST-MODIFIED:20260324T172424Z
UID:4362-1782644400-1782648000@kirche-mildstedt.de
SUMMARY:Taufgottesdienst - Treenetaufen
DESCRIPTION:mit Pastorin Kristin Kristoffersen \n 
URL:https://kirche-mildstedt.de/event/taufgottesdienst-treenetaufen/
LOCATION:Schwabstedt\, Trene\, Schwabstedt\, Deutschland
CATEGORIES:Gottesdienste
ATTACH;FMTTYPE=image/jpeg:https://kirche-mildstedt.de/wp-content/uploads/2022/12/Taufbecken-5-scaled.jpg
ORGANIZER;CN="Kirchengemeinde Mildstedt":MAILTO:mildstedt@kirche-nf.de
END:VEVENT
BEGIN:VEVENT
DTSTART;TZID=Europe/Berlin:20260705T170000
DTEND;TZID=Europe/Berlin:20260705T180000
DTSTAMP:20260422T115840
CREATED:20260325T091807Z
LAST-MODIFIED:20260325T151300Z
UID:4366-1783270800-1783274400@kirche-mildstedt.de
SUMMARY:Sommerkirche - Mildstedt - Musikalischer Abendgottesdienst mit dem Nordfrieslandchor
DESCRIPTION:Der Nordfrieslandchor wird gemeinsam mit Pastor Freese und Alexander Buchner den musikalischen Gottesdienst in der Lamberti-Kirche Mildstedt gestalten. \nDer Nordfrieslandchor ist ein Projektchor\, der vom Nordfriesischen Sängerbund von 1867 und vom Chorverband Schleswig-Holstein\, Sängerkreis 5\, getragen wird und singt vierstimmig bekannte und neue weltliche und auch geistliche Chorsätze. \n  \n 
URL:https://kirche-mildstedt.de/event/sommerkirche-mildstedt-abendgottesdienst-mit-dem-nordfrieslandchor/
LOCATION:Lamberti-Kirche Mildstedt\, Schulweg\, Mildstedt\, 25813\, Deutschland
CATEGORIES:Gottesdienste
ATTACH;FMTTYPE=image/jpeg:https://kirche-mildstedt.de/wp-content/uploads/2020/09/2020-08-19-08.47.41-scaled.jpg
ORGANIZER;CN="Kirchengemeinde Mildstedt":MAILTO:mildstedt@kirche-nf.de
END:VEVENT
BEGIN:VEVENT
DTSTART;TZID=Europe/Berlin:20260712T110000
DTEND;TZID=Europe/Berlin:20260712T120000
DTSTAMP:20260422T115840
CREATED:20260325T091854Z
LAST-MODIFIED:20260325T092353Z
UID:4369-1783854000-1783857600@kirche-mildstedt.de
SUMMARY:Sommerkirche - Koldenbüttel
DESCRIPTION:mit Pastor Christoph Sassenhagen \n  \n 
URL:https://kirche-mildstedt.de/event/sommerkirche-koldenbuettel/
LOCATION:St. Leonhard Kirche Koldenbüttel\, Dorfstraße 14\, Koldenbüttel\, Deutschland
CATEGORIES:Gottesdienste
ATTACH;FMTTYPE=image/jpeg:https://kirche-mildstedt.de/wp-content/uploads/2020/09/2020-08-19-08.47.41-scaled.jpg
ORGANIZER;CN="Kirchengemeinde Mildstedt":MAILTO:mildstedt@kirche-nf.de
END:VEVENT
END:VCALENDAR