BEGIN:VCALENDAR
VERSION:2.0
PRODID:-//Kirchengemeinde Mildstedt - ECPv6.5.1.4//NONSGML v1.0//EN
CALSCALE:GREGORIAN
METHOD:PUBLISH
X-ORIGINAL-URL:https://kirche-mildstedt.de
X-WR-CALDESC:Veranstaltungen für Kirchengemeinde Mildstedt
REFRESH-INTERVAL;VALUE=DURATION:PT1H
X-Robots-Tag:noindex
X-PUBLISHED-TTL:PT1H
BEGIN:VTIMEZONE
TZID:Europe/Berlin
BEGIN:DAYLIGHT
TZOFFSETFROM:+0100
TZOFFSETTO:+0200
TZNAME:CEST
DTSTART:20260329T010000
END:DAYLIGHT
BEGIN:STANDARD
TZOFFSETFROM:+0200
TZOFFSETTO:+0100
TZNAME:CET
DTSTART:20261025T010000
END:STANDARD
END:VTIMEZONE
BEGIN:VEVENT
DTSTART;TZID=Europe/Berlin:20260414T143000
DTEND;TZID=Europe/Berlin:20260414T160000
DTSTAMP:20260422T144222
CREATED:20260325T145150Z
LAST-MODIFIED:20260325T145544Z
UID:4397-1776177000-1776182400@kirche-mildstedt.de
SUMMARY:Der "Weiße Ring" - Infoveranstaltung mit dem DRK
DESCRIPTION:am Dienstag\, 14. April 2026\, 14.30 Uhr im Gemeindehaus. \nWie kann der „Weiße Ring“ helfen\, wenn jemand Opfer einer Gewalttat geworden ist? Über Möglichkeiten und die Arbeit des „Weißen Rings“ werden uns zwei Mitarbeiter berichten. Die Teilnahme ist kostenfrei. \nBeginnen werden wir mit einer Kaffeetafel\, daher bitten wir um Anmeldung bei Frauke Richter\, Tel. 04841 1878 oder im Kirchenbüro unter 04841 873310 (Bitte auf AB sprechen). \n 
URL:https://kirche-mildstedt.de/event/der-weisse-ring-infoveranstaltung-mit-dem-drk/
LOCATION:Lambertushaus\, Schulweg 23\, Mildstedt\, 25813
CATEGORIES:Mal was Neues
ATTACH;FMTTYPE=image/png:https://kirche-mildstedt.de/wp-content/uploads/2026/03/Weisser-Ring.png
END:VEVENT
END:VCALENDAR