BEGIN:VCALENDAR
VERSION:2.0
PRODID:-//Kirchengemeinde Mildstedt - ECPv6.5.1.4//NONSGML v1.0//EN
CALSCALE:GREGORIAN
METHOD:PUBLISH
X-WR-CALNAME:Kirchengemeinde Mildstedt
X-ORIGINAL-URL:https://kirche-mildstedt.de
X-WR-CALDESC:Veranstaltungen für Kirchengemeinde Mildstedt
REFRESH-INTERVAL;VALUE=DURATION:PT1H
X-Robots-Tag:noindex
X-PUBLISHED-TTL:PT1H
BEGIN:VTIMEZONE
TZID:Europe/Berlin
BEGIN:DAYLIGHT
TZOFFSETFROM:+0100
TZOFFSETTO:+0200
TZNAME:CEST
DTSTART:20260329T010000
END:DAYLIGHT
BEGIN:STANDARD
TZOFFSETFROM:+0200
TZOFFSETTO:+0100
TZNAME:CET
DTSTART:20261025T010000
END:STANDARD
END:VTIMEZONE
BEGIN:VEVENT
DTSTART;TZID=Europe/Berlin:20260131T100000
DTEND;TZID=Europe/Berlin:20260131T120000
DTSTAMP:20260422T174801
CREATED:20251125T152536Z
LAST-MODIFIED:20260126T151117Z
UID:4134-1769853600-1769860800@kirche-mildstedt.de
SUMMARY:Kinderkirche zum Thema "Licht"
DESCRIPTION:Wir laden herzlich ein zu unserer Kinderkirche. Euch erwarten Basteln und Geschichten zum Hören und Staunen. Bitte nehmt ein paar Snacks für ein Picknick zum Teilen mit. \nFür alle Kinder ab 0 Jahren und ihre Eltern. Ab 5 Jahren dürfen die Kinder auch ohne Eltern bleiben. Wir treffen uns im Gemeindehaus. Meldet euch gerne im Kirchenbüro an. Aber auch spontan Entschlossene sind herzlich willkommen! \nWir freuen uns auf euch! \nMarlene Freese\, Annika Pludrzinski und Jana Berger \n 
URL:https://kirche-mildstedt.de/event/kinderkirche-zum-thema-licht/
LOCATION:Lamberti-Kirche Mildstedt\, Schulweg\, Mildstedt\, 25813\, Deutschland
CATEGORIES:Kinder- und Jugendangebot
ATTACH;FMTTYPE=image/jpeg:https://kirche-mildstedt.de/wp-content/uploads/2022/04/Kinderkirche-im-Mai-e1732982371272.jpg
ORGANIZER;CN="Kirchengemeinde Mildstedt":MAILTO:mildstedt@kirche-nf.de
END:VEVENT
END:VCALENDAR